BEGIN:VCALENDAR
VERSION:2.0
PRODID:-//Plone.org//NONSGML plone.app.event//EN
X-WR-TIMEZONE:Europe/Berlin
BEGIN:VEVENT
SUMMARY:Die Instrumentalisierung des Besuches Kaiser Wilhelms II. in Konst
 antinopel 1898 für die archäologischen Sammlungen der Königlichen Musee
 n zu Berlin
DTSTART;TZID=Europe/Berlin:20200116T181500
DTEND;TZID=Europe/Berlin:20200116T201500
DTSTAMP:20260420T084937Z
UID:538e29bc6f074b79a688043fe26b1ccc@www.uni-marburg.de
ATTENDEE;CN="Dr. Gabriele Mietke (Museum für Byzantinische Kunst, Berlin)
 ";ROLE=REQ-PARTICIPANT:Dr. Gabriele Mietke (Museum für Byzantinische Kuns
 t, Berlin)
CREATED:20180917T102555Z
DESCRIPTION:https://www.uni-marburg.de/de/fb06/archaeologie/aktuelles/term
 ine/kolloquium_20200116\nVortrag im Rahmen des Archäologischen Kolloquium
 s
LAST-MODIFIED:20191217T082125Z
LOCATION:Hörsaal 00 013\, Biegenstraße 11\, 35037 Marburg
URL:https://www.uni-marburg.de/de/fb06/archaeologie/aktuelles/termine/koll
 oquium_20200116
END:VEVENT
BEGIN:VTIMEZONE
TZID:Europe/Berlin
X-LIC-LOCATION:Europe/Berlin
BEGIN:STANDARD
DTSTART:20191027T020000
TZNAME:CET
TZOFFSETFROM:+0200
TZOFFSETTO:+0100
END:STANDARD
END:VTIMEZONE
END:VCALENDAR
