BEGIN:VCALENDAR
VERSION:2.0
PRODID:-//Plone.org//NONSGML plone.app.event//EN
X-WR-TIMEZONE:Europe/Berlin
BEGIN:VEVENT
SUMMARY:Byzantinische Festungen der Karischen Chersones – Grundlegende A
 spekte zur Typologie\, Funktion und Programmatik
DTSTART;TZID=Europe/Berlin:20200206T181500
DTEND;TZID=Europe/Berlin:20200206T201500
DTSTAMP:20260420T120604Z
UID:0dd33cc785cc4bc0923b32732f264481@www.uni-marburg.de
ATTENDEE;CN="Dr. Jasmin Peschke (Friedrich-Alexander-Universität Erlangen
 -Nürnberg)";ROLE=REQ-PARTICIPANT:Dr. Jasmin Peschke (Friedrich-Alexander-
 Universität Erlangen-Nürnberg)
CREATED:20180917T102555Z
DESCRIPTION:https://www.uni-marburg.de/de/fb06/archaeologie/aktuelles/term
 ine/kolloquium_20200206\nVortrag im Rahmen des Archäologischen Kolloquium
 s
LAST-MODIFIED:20191217T102728Z
LOCATION:Hörsaal 00 013\, Biegenstraße 11\, 35037 Marburg
URL:https://www.uni-marburg.de/de/fb06/archaeologie/aktuelles/termine/koll
 oquium_20200206
END:VEVENT
BEGIN:VTIMEZONE
TZID:Europe/Berlin
X-LIC-LOCATION:Europe/Berlin
BEGIN:STANDARD
DTSTART:20191027T020000
TZNAME:CET
TZOFFSETFROM:+0200
TZOFFSETTO:+0100
END:STANDARD
END:VTIMEZONE
END:VCALENDAR
