BEGIN:VCALENDAR
VERSION:2.0
PRODID:-//Plone.org//NONSGML plone.app.event//EN
X-WR-TIMEZONE:Europe/Berlin
BEGIN:VEVENT
SUMMARY:Archaische Grabarchitektur im Kerameikos  von Athen
DTSTART;TZID=Europe/Berlin:20210506T200000
DTEND;TZID=Europe/Berlin:20210506T220000
DTSTAMP:20260420T111930Z
UID:71a87c2b19fd4587ab65d049ad26a6d7@www.uni-marburg.de
ATTENDEE;CN="Gerhard Kuhn (Marburg)";ROLE=REQ-PARTICIPANT:Gerhard Kuhn (Ma
 rburg)
CREATED:20180917T102555Z
DESCRIPTION:https://www.uni-marburg.de/de/fb06/archaeologie/aktuelles/term
 ine/kolloquium_20210506\nVortrag im Rahmen des Archäologischen Kolloquium
 s
LAST-MODIFIED:20210427T100450Z
LOCATION:Die Veranstaltungen finden um 20:00 online statt\, Anmeldung unte
 r hiwica@staff.uni-marburg.de
URL:https://www.uni-marburg.de/de/fb06/archaeologie/aktuelles/termine/koll
 oquium_20210506
END:VEVENT
BEGIN:VTIMEZONE
TZID:Europe/Berlin
X-LIC-LOCATION:Europe/Berlin
BEGIN:DAYLIGHT
DTSTART:20210328T030000
TZNAME:CEST
TZOFFSETFROM:+0100
TZOFFSETTO:+0200
END:DAYLIGHT
END:VTIMEZONE
END:VCALENDAR
