BEGIN:VCALENDAR
VERSION:2.0
PRODID:-//Plone.org//NONSGML plone.app.event//EN
X-WR-TIMEZONE:Europe/Berlin
BEGIN:VEVENT
SUMMARY:Empty Vessels Full of Insight: Regional Economies\, Burial Customs
 \, and Ceramic Traditions in Early Byzantine Corinth\, Greece
DTSTART;TZID=Europe/Berlin:20210527T200000
DTEND;TZID=Europe/Berlin:20210527T220000
DTSTAMP:20260420T093157Z
UID:1cbbe5415c964826ba6259c847be9323@www.uni-marburg.de
ATTENDEE;CN="Mark Hammond (Cleveland)";ROLE=REQ-PARTICIPANT:Mark Hammond (
 Cleveland)
CREATED:20180917T102555Z
DESCRIPTION:https://www.uni-marburg.de/de/fb06/archaeologie/aktuelles/term
 ine/kolloquium_20210527\nVortrag im Rahmen des Archäologischen Kolloquium
 s
LAST-MODIFIED:20210427T100449Z
LOCATION:Die Veranstaltungen finden um 20:00  online statt\, Anmeldung unt
 er hiwica@staff.uni-marburg.de
URL:https://www.uni-marburg.de/de/fb06/archaeologie/aktuelles/termine/koll
 oquium_20210527
END:VEVENT
BEGIN:VTIMEZONE
TZID:Europe/Berlin
X-LIC-LOCATION:Europe/Berlin
BEGIN:DAYLIGHT
DTSTART:20210328T030000
TZNAME:CEST
TZOFFSETFROM:+0100
TZOFFSETTO:+0200
END:DAYLIGHT
END:VTIMEZONE
END:VCALENDAR
