BEGIN:VCALENDAR
VERSION:2.0
PRODID:-//Plone.org//NONSGML plone.app.event//EN
X-WR-TIMEZONE:Europe/Berlin
BEGIN:VEVENT
SUMMARY:Die Zerstörung der Grabmonumente im Athener Kerameikos zur Zeit d
 es Themistokles
DTSTART;TZID=Europe/Berlin:20210610T200000
DTEND;TZID=Europe/Berlin:20210610T220000
DTSTAMP:20260420T174346Z
UID:285a66eda8db400c9cf64ddd81f100b7@www.uni-marburg.de
ATTENDEE;CN="Vasiliki Barlou (Lausanne)";ROLE=REQ-PARTICIPANT:Vasiliki Bar
 lou (Lausanne)
CREATED:20180917T102555Z
DESCRIPTION:https://www.uni-marburg.de/de/fb06/archaeologie/aktuelles/term
 ine/kolloquium_20210610\nVortrag im Rahmen des Archäologischen Kolloquium
 s
LAST-MODIFIED:20210427T100449Z
LOCATION:Die Veranstaltungen finden um 20:00 online statt\, Anmeldung unte
 r hiwica@staff.uni-marburg.de
URL:https://www.uni-marburg.de/de/fb06/archaeologie/aktuelles/termine/koll
 oquium_20210610
END:VEVENT
BEGIN:VTIMEZONE
TZID:Europe/Berlin
X-LIC-LOCATION:Europe/Berlin
BEGIN:DAYLIGHT
DTSTART:20210328T030000
TZNAME:CEST
TZOFFSETFROM:+0100
TZOFFSETTO:+0200
END:DAYLIGHT
END:VTIMEZONE
END:VCALENDAR
