BEGIN:VCALENDAR
VERSION:2.0
PRODID:-//Plone.org//NONSGML plone.app.event//EN
X-WR-TIMEZONE:Europe/Berlin
BEGIN:VEVENT
SUMMARY:Olympos Episcopal Complex in the Light of the Recent Researches
DTSTART;TZID=Europe/Berlin:20210617T200000
DTEND;TZID=Europe/Berlin:20210617T220000
DTSTAMP:20260420T094257Z
UID:42a822e3ff244b06ab53f87b33e02307@www.uni-marburg.de
ATTENDEE;CN="Gökçen Kurtuluş Öztaşkın (Denizli)";ROLE=REQ-PARTICIPAN
 T:Gökçen Kurtuluş Öztaşkın (Denizli)
CREATED:20180917T102555Z
DESCRIPTION:https://www.uni-marburg.de/de/fb06/archaeologie/aktuelles/term
 ine/kolloquium_20210617\nVortrag im Rahmen des Archäologischen Kolloquium
 s
LAST-MODIFIED:20210427T100450Z
LOCATION:Die Veranstaltungen finden um 20:00 online statt\, Anmeldung unte
 r hiwica@staff.uni-marburg.de
URL:https://www.uni-marburg.de/de/fb06/archaeologie/aktuelles/termine/koll
 oquium_20210617
END:VEVENT
BEGIN:VTIMEZONE
TZID:Europe/Berlin
X-LIC-LOCATION:Europe/Berlin
BEGIN:DAYLIGHT
DTSTART:20210328T030000
TZNAME:CEST
TZOFFSETFROM:+0100
TZOFFSETTO:+0200
END:DAYLIGHT
END:VTIMEZONE
END:VCALENDAR
