BEGIN:VCALENDAR
VERSION:2.0
PRODID:-//Plone.org//NONSGML plone.app.event//EN
X-WR-TIMEZONE:Europe/Berlin
BEGIN:VEVENT
SUMMARY:Preliminary Report from the Middle Byzantine Necropolis at Labraun
 da: Quality of Life in the Carian Mountains
DTSTART;TZID=Europe/Berlin:20210708T200000
DTEND;TZID=Europe/Berlin:20210708T220000
DTSTAMP:20260421T160747Z
UID:7716e75e387e4875b3e24e49faf2d2e3@www.uni-marburg.de
ATTENDEE;CN="Anna Sitz (Heidelberg)";ROLE=REQ-PARTICIPANT:Anna Sitz (Heide
 lberg)
CREATED:20180917T102555Z
DESCRIPTION:https://www.uni-marburg.de/de/fb06/archaeologie/aktuelles/term
 ine/kolloquium_20210807\nVortrag im Rahmen des Archäologischen Kolloquium
 s
LAST-MODIFIED:20210427T100450Z
LOCATION:Die Veranstaltungen finden um 20:00 online statt\, Anmeldung unte
 r hiwica@staff.uni-marburg.de
URL:https://www.uni-marburg.de/de/fb06/archaeologie/aktuelles/termine/koll
 oquium_20210807
END:VEVENT
BEGIN:VTIMEZONE
TZID:Europe/Berlin
X-LIC-LOCATION:Europe/Berlin
BEGIN:DAYLIGHT
DTSTART:20210328T030000
TZNAME:CEST
TZOFFSETFROM:+0100
TZOFFSETTO:+0200
END:DAYLIGHT
END:VTIMEZONE
END:VCALENDAR
