BEGIN:VCALENDAR
VERSION:2.0
PRODID:-//Plone.org//NONSGML plone.app.event//EN
X-WR-TIMEZONE:Europe/Berlin
BEGIN:VEVENT
SUMMARY:Lead seals and communication networks in the Byzantine World
DTSTART;TZID=Europe/Berlin:20211202T181500
DTEND;TZID=Europe/Berlin:20211202T201500
DTSTAMP:20260420T074405Z
UID:ef446592582a441ea8d64fb3d1d1c2d7@www.uni-marburg.de
ATTENDEE;CN="Dr. Christos Malatras (Tübingen) ";ROLE=REQ-PARTICIPANT:Dr. 
 Christos Malatras (Tübingen) 
CREATED:20180917T102555Z
DESCRIPTION:https://www.uni-marburg.de/de/fb06/archaeologie/aktuelles/term
 ine/kolloquium_20211202\nVortrag im Rahmen des Archäologischen Kolloquium
 s
LAST-MODIFIED:20211111T125723Z
LOCATION:Der Vortrag findet unter Einhaltung der 2G Regelung im Hörsaal 0
 0 013 ∙ Biegenstraße 11 ∙ 35037 Marburg und online statt
URL:https://www.uni-marburg.de/de/fb06/archaeologie/aktuelles/termine/koll
 oquium_20211202
END:VEVENT
BEGIN:VTIMEZONE
TZID:Europe/Berlin
X-LIC-LOCATION:Europe/Berlin
BEGIN:STANDARD
DTSTART:20211031T020000
TZNAME:CET
TZOFFSETFROM:+0200
TZOFFSETTO:+0100
END:STANDARD
END:VTIMEZONE
END:VCALENDAR
