BEGIN:VCALENDAR
VERSION:2.0
PRODID:-//Plone.org//NONSGML plone.app.event//EN
X-WR-TIMEZONE:Europe/Berlin
BEGIN:VEVENT
SUMMARY:Mythologisierte Landschaften. Wandmalerei und Inszenierungen mit S
 kulptur in der späten Republik und der frühen römischen Kaiserzeit
DTSTART;TZID=Europe/Berlin:20211216T181500
DTEND;TZID=Europe/Berlin:20211216T201500
DTSTAMP:20260420T130752Z
UID:f3c9dc49ec7c4e3982d91f836966d1fd@www.uni-marburg.de
ATTENDEE;CN="Prof. Dr. Dagmar Grassinger (Marburg)";ROLE=REQ-PARTICIPANT:P
 rof. Dr. Dagmar Grassinger (Marburg)
CREATED:20180917T102555Z
DESCRIPTION:https://www.uni-marburg.de/de/fb06/archaeologie/aktuelles/term
 ine/kolloquium_20211216\nWinckelmann-Vortrag / Vortrag im Rahmen des Arch
 äologischen Kolloquiums
LAST-MODIFIED:20211111T133817Z
LOCATION:Der Vortrag findet unter Einhaltung der 2G Regelung im Hörsaal 0
 0 013 ∙ Biegenstraße 11 ∙ 35037 Marburg und online statt
URL:https://www.uni-marburg.de/de/fb06/archaeologie/aktuelles/termine/koll
 oquium_20211216
END:VEVENT
BEGIN:VTIMEZONE
TZID:Europe/Berlin
X-LIC-LOCATION:Europe/Berlin
BEGIN:STANDARD
DTSTART:20211031T020000
TZNAME:CET
TZOFFSETFROM:+0200
TZOFFSETTO:+0100
END:STANDARD
END:VTIMEZONE
END:VCALENDAR
