BEGIN:VCALENDAR
VERSION:2.0
PRODID:-//Plone.org//NONSGML plone.app.event//EN
X-WR-TIMEZONE:Europe/Berlin
BEGIN:VEVENT
SUMMARY:Seiden für die Verehrung des Bischofs Ambrosius. Ein Konservierun
 gsprojekt und seine archäologisch-theologische Auswertung
DTSTART;TZID=Europe/Berlin:20220421T181500
DTEND;TZID=Europe/Berlin:20220421T201500
DTSTAMP:20260421T002138Z
UID:57b780ad9f2f4ce6879fb56f77b0c70d@www.uni-marburg.de
ATTENDEE;CN="Prof. Dr. Sabine Schrenk (Bonn)";ROLE=REQ-PARTICIPANT:Prof. D
 r. Sabine Schrenk (Bonn)
CREATED:20180917T102555Z
DESCRIPTION:https://www.uni-marburg.de/de/fb06/archaeologie/aktuelles/term
 ine/kolloquium_20220422\nVortrag im Rahmen des Archäologischen Kolloquium
 s
LAST-MODIFIED:20220411T104555Z
LOCATION:Der Vortrag findet im Hörsaal 00 013 ∙ Biegenstraße 11 ∙ 35
 037 Marburg statt
URL:https://www.uni-marburg.de/de/fb06/archaeologie/aktuelles/termine/koll
 oquium_20220422
END:VEVENT
BEGIN:VTIMEZONE
TZID:Europe/Berlin
X-LIC-LOCATION:Europe/Berlin
BEGIN:DAYLIGHT
DTSTART:20220327T030000
TZNAME:CEST
TZOFFSETFROM:+0100
TZOFFSETTO:+0200
END:DAYLIGHT
END:VTIMEZONE
END:VCALENDAR
