BEGIN:VCALENDAR
VERSION:2.0
PRODID:-//Plone.org//NONSGML plone.app.event//EN
X-WR-TIMEZONE:Europe/Berlin
BEGIN:VEVENT
SUMMARY:Made in Assos. Produktion und Handel in einer byzantinischen Provi
 nzstadt
DTSTART;TZID=Europe/Berlin:20220512T181500
DTEND;TZID=Europe/Berlin:20220512T201500
DTSTAMP:20260419T113700Z
UID:071fbb9fcaa341b8b17f38ce8a6fd9c0@www.uni-marburg.de
ATTENDEE;CN="Prof. Dr. Beate Böhlendorf-Arslan (Marburg)";ROLE=REQ-PARTIC
 IPANT:Prof. Dr. Beate Böhlendorf-Arslan (Marburg)
CREATED:20180917T102555Z
DESCRIPTION:https://www.uni-marburg.de/de/fb06/archaeologie/aktuelles/term
 ine/kolloquium_20220512\nVortrag im Rahmen des Archäologischen Kolloquium
 s
LAST-MODIFIED:20250811T123225Z
LOCATION:Der Vortrag findet im Hörsaal 00 013 ∙ Biegenstraße 11 ∙ 35
 037 Marburg und online statt
URL:https://www.uni-marburg.de/de/fb06/archaeologie/aktuelles/termine/koll
 oquium_20220512
END:VEVENT
BEGIN:VTIMEZONE
TZID:Europe/Berlin
X-LIC-LOCATION:Europe/Berlin
BEGIN:DAYLIGHT
DTSTART:20220327T030000
TZNAME:CEST
TZOFFSETFROM:+0100
TZOFFSETTO:+0200
END:DAYLIGHT
END:VTIMEZONE
END:VCALENDAR
