BEGIN:VCALENDAR
VERSION:2.0
PRODID:-//Plone.org//NONSGML plone.app.event//EN
X-WR-TIMEZONE:Europe/Berlin
BEGIN:VEVENT
SUMMARY:Intact underwater archaeological sites of the Eastern Adriatic: Th
 e case studies of Juro Bay and Cape Letavica shipwrecks / Prof. Dr. Irena 
 Radić Rossi (Zadar)
DTSTART;TZID=Europe/Berlin:20231116T181500
DTSTAMP:20260422T230101Z
UID:df9f52a023c34209a27c4e8f6cacad97@www.uni-marburg.de
ATTENDEE;CN="Prof. Dr. Irena Radić Rossi (Zadar)";ROLE=REQ-PARTICIPANT:Pr
 of. Dr. Irena Radić Rossi (Zadar)
CREATED:20180917T102555Z
DESCRIPTION:https://www.uni-marburg.de/de/fb06/archaeologie/aktuelles/term
 ine/kolloquium_20231116\nVortrag im Rahmen des Archäologischen Kolloquium
 s
LAST-MODIFIED:20231030T070432Z
LOCATION:Hörsaal 00/013\, Biegenstraße 11\, 35037 Marburg
URL:https://www.uni-marburg.de/de/fb06/archaeologie/aktuelles/termine/koll
 oquium_20231116
END:VEVENT
BEGIN:VTIMEZONE
TZID:Europe/Berlin
X-LIC-LOCATION:Europe/Berlin
BEGIN:STANDARD
DTSTART:20231029T020000
TZNAME:CET
TZOFFSETFROM:+0200
TZOFFSETTO:+0100
END:STANDARD
END:VTIMEZONE
END:VCALENDAR
