BEGIN:VCALENDAR
VERSION:2.0
PRODID:-//Plone.org//NONSGML plone.app.event//EN
X-WR-TIMEZONE:Europe/Berlin
BEGIN:VEVENT
SUMMARY:VORTRAG ENTFÄLLT !! Winckelmann-Vortrag:  Phönizien-Attika–Per
 sien: Die Architektur Sidons zwischen Persepolis und Athen  / Prof. Dr. Ro
 lf A. Stucky (Basel)
DTSTART;TZID=Europe/Berlin:20231130T201500
DTSTAMP:20260422T121917Z
UID:a53ed819329b4dcf82c378727239e4ba@www.uni-marburg.de
ATTENDEE;CN="Prof. Dr. Rolf A. Stucky (Basel)";ROLE=REQ-PARTICIPANT:Prof. 
 Dr. Rolf A. Stucky (Basel)
CREATED:20180917T102555Z
DESCRIPTION:https://www.uni-marburg.de/de/fb06/archaeologie/aktuelles/term
 ine/kolloquium_20231130\nVortrag im Rahmen des Archäologischen Kolloquium
 s
LAST-MODIFIED:20231127T115617Z
LOCATION:Hörsaal 00/013\, Biegenstraße 11\, 35037 Marburg
URL:https://www.uni-marburg.de/de/fb06/archaeologie/aktuelles/termine/koll
 oquium_20231130
END:VEVENT
BEGIN:VTIMEZONE
TZID:Europe/Berlin
X-LIC-LOCATION:Europe/Berlin
BEGIN:STANDARD
DTSTART:20231029T020000
TZNAME:CET
TZOFFSETFROM:+0200
TZOFFSETTO:+0100
END:STANDARD
END:VTIMEZONE
END:VCALENDAR
