BEGIN:VCALENDAR
VERSION:2.0
PRODID:-//Plone.org//NONSGML plone.app.event//EN
X-WR-TIMEZONE:Europe/Berlin
BEGIN:VEVENT
SUMMARY:ACHTUNG: der Gastvortrag von Herrn Dr. Luigi Pinchetti (Bonn)  fä
 llt aufgrund der Witterungsbedingungen heute Abend aus!
DTSTART;TZID=Europe/Berlin:20240118T181500
DTSTAMP:20260422T024507Z
UID:dc6fc214661a4f61ac035a16289776a0@www.uni-marburg.de
ATTENDEE;CN="Dr. Luigi Pinchetti (Bonn)";ROLE=REQ-PARTICIPANT:Dr. Luigi Pi
 nchetti (Bonn)
CREATED:20180917T102555Z
DESCRIPTION:https://www.uni-marburg.de/de/fb06/archaeologie/aktuelles/term
 ine/kolloquium_20240118\nVortrag im Rahmen des Archäologischen Kolloquium
 s
LAST-MODIFIED:20240118T100451Z
LOCATION:Achtung: der Gastvortrag von Herrn Dr. Luigi Pinchetti (Bonn) "Ca
 rolingian Monasteries and Holy Burials: New Insights from Umbria (Italy)" 
 fällt aufgrund der Witterungsbedingungen heute Abend aus!
URL:https://www.uni-marburg.de/de/fb06/archaeologie/aktuelles/termine/koll
 oquium_20240118
END:VEVENT
BEGIN:VTIMEZONE
TZID:Europe/Berlin
X-LIC-LOCATION:Europe/Berlin
BEGIN:STANDARD
DTSTART:20231029T020000
TZNAME:CET
TZOFFSETFROM:+0200
TZOFFSETTO:+0100
END:STANDARD
END:VTIMEZONE
END:VCALENDAR
