BEGIN:VCALENDAR
VERSION:2.0
PRODID:-//Plone.org//NONSGML plone.app.event//EN
X-WR-TIMEZONE:Europe/Berlin
BEGIN:VEVENT
SUMMARY:Divine Protection or Mercantile Activity? The Question of Workshop
 s at Sacred Spaces in Late Antiquity / Dr. des. Catherine Keane (Marburg)
DTSTART;TZID=Europe/Berlin:20240201T181500
DTSTAMP:20260420T112033Z
UID:b67a0f14fb4d4452896776ae3fac53ea@www.uni-marburg.de
ATTENDEE;CN="Dr. des. Catherine Keane (Marburg)";ROLE=REQ-PARTICIPANT:Dr. 
 des. Catherine Keane (Marburg)
CREATED:20180917T102555Z
DESCRIPTION:https://www.uni-marburg.de/de/fb06/archaeologie/aktuelles/term
 ine/kolloquium_20240201\nVortrag im Rahmen des Archäologischen Kolloquium
 s
LAST-MODIFIED:20231030T064727Z
LOCATION:Hörsaal 00/013\, Biegenstraße 11\, 35037 Marburg
URL:https://www.uni-marburg.de/de/fb06/archaeologie/aktuelles/termine/koll
 oquium_20240201
END:VEVENT
BEGIN:VTIMEZONE
TZID:Europe/Berlin
X-LIC-LOCATION:Europe/Berlin
BEGIN:STANDARD
DTSTART:20231029T020000
TZNAME:CET
TZOFFSETFROM:+0200
TZOFFSETTO:+0100
END:STANDARD
END:VTIMEZONE
END:VCALENDAR
