BEGIN:VCALENDAR
VERSION:2.0
PRODID:-//Plone.org//NONSGML plone.app.event//EN
X-WR-TIMEZONE:Europe/Berlin
BEGIN:VEVENT
SUMMARY:Siedlungsgeschichte des antiken Gadara bis hin zur Neubesiedlung U
 mm Qays: Eine Perspektive / Dr.-Ing. Claudia Bührig (Damaskus)
DTSTART;TZID=Europe/Berlin:20240208T181500
DTSTAMP:20260421T041130Z
UID:f7cac2a302ca4bd297c5d6329a7519df@www.uni-marburg.de
ATTENDEE;CN="Dr.-Ing. Claudia Bührig (Damaskus)";ROLE=REQ-PARTICIPANT:Dr.
 -Ing. Claudia Bührig (Damaskus)
CREATED:20180917T102555Z
DESCRIPTION:https://www.uni-marburg.de/de/fb06/archaeologie/aktuelles/term
 ine/kolloquium_20240208\nVortrag im Rahmen des Archäologischen Kolloquium
 s
LAST-MODIFIED:20231030T064912Z
LOCATION:Hörsaal 00/013\, Biegenstraße 11\, 35037 Marburg
URL:https://www.uni-marburg.de/de/fb06/archaeologie/aktuelles/termine/koll
 oquium_20240208
END:VEVENT
BEGIN:VTIMEZONE
TZID:Europe/Berlin
X-LIC-LOCATION:Europe/Berlin
BEGIN:STANDARD
DTSTART:20231029T020000
TZNAME:CET
TZOFFSETFROM:+0200
TZOFFSETTO:+0100
END:STANDARD
END:VTIMEZONE
END:VCALENDAR
