BEGIN:VCALENDAR
VERSION:2.0
PRODID:-//Plone.org//NONSGML plone.app.event//EN
X-WR-TIMEZONE:Europe/Berlin
BEGIN:VEVENT
SUMMARY:NACHSCHREIBETERMIN : LV-06-KLA-004-20241 - Einführung in die Klas
 sische Archäologie (1. Parallelgruppe) - Sommersemester 2024 (Prof. Dr. R
 ita Amedick)
DTSTART;TZID=Europe/Berlin:20241014T100000
DTSTAMP:20260426T022321Z
UID:dfd8e5e408c441d9a2ce61fa18a2a06f@www.uni-marburg.de
ATTENDEE;CN="Prof. Dr. Rita Amedick";ROLE=REQ-PARTICIPANT:Prof. Dr. Rita A
 medick
CREATED:20240924T084659Z
DESCRIPTION:https://www.uni-marburg.de/de/fb06/archaeologie/aktuelles/term
 ine/nachschreibetermin-lv-06-kla-004-20241-einfuehrung-in-die-klassische-a
 rchaeologie-1-parallelgruppe-sommersemester-2024-amedick\nNACHSCHREIBETERM
 IN : LV-06-KLA-004-20241 - Einführung in die Klassische Archäologie (1. 
 Parallelgruppe) - Sommersemester 2024 (Amedick)
LAST-MODIFIED:20240924T085452Z
LOCATION:Biegenstr. 11\, Hörsaal 00 013
URL:https://www.uni-marburg.de/de/fb06/archaeologie/aktuelles/termine/nach
 schreibetermin-lv-06-kla-004-20241-einfuehrung-in-die-klassische-archaeolo
 gie-1-parallelgruppe-sommersemester-2024-amedick
END:VEVENT
BEGIN:VTIMEZONE
TZID:Europe/Berlin
X-LIC-LOCATION:Europe/Berlin
BEGIN:DAYLIGHT
DTSTART:20240331T030000
TZNAME:CEST
TZOFFSETFROM:+0100
TZOFFSETTO:+0200
END:DAYLIGHT
END:VTIMEZONE
END:VCALENDAR
