BEGIN:VCALENDAR
VERSION:2.0
PRODID:-//Plone.org//NONSGML plone.app.event//EN
X-WR-TIMEZONE:Europe/Berlin
BEGIN:VEVENT
SUMMARY:Polychrome Walls: The Long Journey of Ornaments in Late Byzantine 
 Architecture in Constantinople
DTSTART;TZID=Europe/Berlin:20181210T180000
DTEND;TZID=Europe/Berlin:20181210T200000
DTSTAMP:20260419T113617Z
UID:0f889215affa474090506d66fa511046@www.uni-marburg.de
ATTENDEE;CN="Dr. Jasmina Ciric (Belgrad)";ROLE=REQ-PARTICIPANT:Dr. Jasmina
  Ciric (Belgrad)
CREATED:20181126T110906Z
DESCRIPTION:https://www.uni-marburg.de/de/fb06/archaeologie/aktuelles/term
 ine/polychrome-walls\nVortrag im Rahmen des Archäologischen Kolloquiums
LAST-MODIFIED:20181126T111121Z
LOCATION:Hörsaal 00 013\, Kunstgebäude\, Biegenstraße 11\, 35037 Marbur
 g
URL:https://www.uni-marburg.de/de/fb06/archaeologie/aktuelles/termine/poly
 chrome-walls
END:VEVENT
BEGIN:VTIMEZONE
TZID:Europe/Berlin
X-LIC-LOCATION:Europe/Berlin
BEGIN:STANDARD
DTSTART:20181028T020000
TZNAME:CET
TZOFFSETFROM:+0200
TZOFFSETTO:+0100
END:STANDARD
END:VTIMEZONE
END:VCALENDAR
