BEGIN:VCALENDAR
VERSION:2.0
PRODID:-//Plone.org//NONSGML plone.app.event//EN
X-WR-TIMEZONE:Europe/Berlin
BEGIN:VEVENT
SUMMARY:Semestereröffnung der Archäologischen Wissenschaften
DTSTART;TZID=Europe/Berlin:20251014T120000
DTSTAMP:20260420T064330Z
UID:0e842480620c4672b1ef57663f33fc9b@www.uni-marburg.de
CATEGORIES:()
CREATED:20180917T102555Z
DESCRIPTION:https://www.uni-marburg.de/de/fb06/archaeologie/aktuelles/term
 ine/semestereroeffnung_202526\nSemestereröffnung der Archäologischen Wis
 senschaften
LAST-MODIFIED:20251002T094101Z
LOCATION:Hörsaal 00 013\, Biegenstr. 11 \, 35037 Marburg
URL:https://www.uni-marburg.de/de/fb06/archaeologie/aktuelles/termine/seme
 stereroeffnung_202526
END:VEVENT
BEGIN:VTIMEZONE
TZID:Europe/Berlin
X-LIC-LOCATION:Europe/Berlin
BEGIN:DAYLIGHT
DTSTART:20250330T030000
TZNAME:CEST
TZOFFSETFROM:+0100
TZOFFSETTO:+0200
END:DAYLIGHT
END:VTIMEZONE
END:VCALENDAR
