BEGIN:VCALENDAR
VERSION:2.0
PRODID:-//Plone.org//NONSGML plone.app.event//EN
X-WR-TIMEZONE:Europe/Berlin
BEGIN:VEVENT
SUMMARY:Urbanism of Xanthos in the Early Byzantine Period
DTSTART;TZID=Europe/Berlin:20230202T180000
DTSTAMP:20260425T182236Z
UID:c130af333fe44d20bade415cda91bc07@www.uni-marburg.de
ATTENDEE;CN="Dr. Emre Üstündağ (Istanbul)";ROLE=REQ-PARTICIPANT:Dr. Emr
 e Üstündağ (Istanbul)
CREATED:20221031T110728Z
DESCRIPTION:https://www.uni-marburg.de/de/fb06/archaeologie/aktuelles/term
 ine/urbanism-of-xanthos-in-the-early-byzantine-period\nArchäologisches Ko
 lloquium WiSe 2022/2023
LAST-MODIFIED:20221031T111840Z
LOCATION:Hörsaal 00 013 ∙ Biegenstraße 11 ∙
URL:https://www.uni-marburg.de/de/fb06/archaeologie/aktuelles/termine/urba
 nism-of-xanthos-in-the-early-byzantine-period
END:VEVENT
BEGIN:VTIMEZONE
TZID:Europe/Berlin
X-LIC-LOCATION:Europe/Berlin
BEGIN:STANDARD
DTSTART:20221030T020000
TZNAME:CET
TZOFFSETFROM:+0200
TZOFFSETTO:+0100
END:STANDARD
END:VTIMEZONE
END:VCALENDAR
