BEGIN:VCALENDAR
VERSION:2.0
PRODID:-//Plone.org//NONSGML plone.app.event//EN
X-WR-TIMEZONE:Europe/Berlin
BEGIN:VEVENT
SUMMARY:24/365/495 – Marburger Studierendenalltage durch die Jahrhundert
 e
DTSTART;TZID=Europe/Berlin:20220601T183000
DTEND;TZID=Europe/Berlin:20220601T200000
DTSTAMP:20260425T031117Z
UID:eece714077c04db1b4ff33088a122947@www.uni-marburg.de
ATTENDEE;CN="Phillip Höhre, M.A.";ROLE=REQ-PARTICIPANT:Phillip Höhre, M.
 A.
CREATED:20220404T135530Z
DESCRIPTION:https://www.uni-marburg.de/de/fb06/hessische-landesgeschichte/
 aktuelles/termine/24-365-495-marburger-studierendenalltage-durch-die-jahrh
 underte\n
LAST-MODIFIED:20220404T135541Z
LOCATION:Landgrafensaal des Hessischen Staatsarchivs Marburg
URL:https://www.uni-marburg.de/de/fb06/hessische-landesgeschichte/aktuelle
 s/termine/24-365-495-marburger-studierendenalltage-durch-die-jahrhunderte
END:VEVENT
BEGIN:VTIMEZONE
TZID:Europe/Berlin
X-LIC-LOCATION:Europe/Berlin
BEGIN:DAYLIGHT
DTSTART:20220327T030000
TZNAME:CEST
TZOFFSETFROM:+0100
TZOFFSETTO:+0200
END:DAYLIGHT
END:VTIMEZONE
END:VCALENDAR
