BEGIN:VCALENDAR
VERSION:2.0
PRODID:-//Plone.org//NONSGML plone.app.event//EN
X-WR-TIMEZONE:Europe/Berlin
BEGIN:VEVENT
SUMMARY:„An allem sind die Juden und die Radfahrer schuld“
DTSTART;TZID=Europe/Berlin:20220518T183000
DTEND;TZID=Europe/Berlin:20220518T200000
DTSTAMP:20260425T131029Z
UID:38509ce237ba4e39b16e310024500bd7@www.uni-marburg.de
ATTENDEE;CN="Monika Bunk ";ROLE=REQ-PARTICIPANT:Monika Bunk 
CREATED:20220404T134632Z
DESCRIPTION:https://www.uni-marburg.de/de/fb06/hessische-landesgeschichte/
 aktuelles/termine/an-allem-sind-die-juden-und-die-radfahrer-schuld\nDeutsc
 h-jüdische Missverhältnisse und Missverständnisse beobachtet bei einem 
 Streifzug durch die Marburger Geschichte
LAST-MODIFIED:20220419T142117Z
LOCATION:Landgrafensaal des Hessischen Staatsarchivs Marburg
URL:https://www.uni-marburg.de/de/fb06/hessische-landesgeschichte/aktuelle
 s/termine/an-allem-sind-die-juden-und-die-radfahrer-schuld
END:VEVENT
BEGIN:VTIMEZONE
TZID:Europe/Berlin
X-LIC-LOCATION:Europe/Berlin
BEGIN:DAYLIGHT
DTSTART:20220327T030000
TZNAME:CEST
TZOFFSETFROM:+0100
TZOFFSETTO:+0200
END:DAYLIGHT
END:VTIMEZONE
END:VCALENDAR
