BEGIN:VCALENDAR
VERSION:2.0
PRODID:-//Plone.org//NONSGML plone.app.event//EN
X-WR-TIMEZONE:Europe/Berlin
BEGIN:VEVENT
SUMMARY:Dichterische Denkerin der Welt: Hannah Arendts (Marburger) Anfäng
 e
DTSTART;TZID=Europe/Berlin:20220427T183000
DTEND;TZID=Europe/Berlin:20220427T200000
DTSTAMP:20260425T034139Z
UID:6e76c255726047a1a10aecac9ff66495@www.uni-marburg.de
ATTENDEE;CN="Prof. Dr. Doren Wohlleben";ROLE=REQ-PARTICIPANT:Prof. Dr. Dor
 en Wohlleben
CREATED:20220404T134632Z
DESCRIPTION:https://www.uni-marburg.de/de/fb06/hessische-landesgeschichte/
 aktuelles/termine/dichterische-denkerin-der-welt-hannah-arendts-marburger-
 anfaenge\n
LAST-MODIFIED:20220419T143327Z
LOCATION:Landgrafensaal des Hessischen Staatsarchivs Marburg
URL:https://www.uni-marburg.de/de/fb06/hessische-landesgeschichte/aktuelle
 s/termine/dichterische-denkerin-der-welt-hannah-arendts-marburger-anfaenge
END:VEVENT
BEGIN:VTIMEZONE
TZID:Europe/Berlin
X-LIC-LOCATION:Europe/Berlin
BEGIN:DAYLIGHT
DTSTART:20220327T030000
TZNAME:CEST
TZOFFSETFROM:+0100
TZOFFSETTO:+0200
END:DAYLIGHT
END:VTIMEZONE
END:VCALENDAR
