BEGIN:VCALENDAR
VERSION:2.0
PRODID:-//Plone.org//NONSGML plone.app.event//EN
X-WR-TIMEZONE:Europe/Berlin
BEGIN:VEVENT
SUMMARY:Die Grimms und die Germanistik: Marburger Anfänge
DTSTART;TZID=Europe/Berlin:20220511T183000
DTEND;TZID=Europe/Berlin:20220511T200000
DTSTAMP:20260423T122801Z
UID:90ef9a9c629247b78d868e898e327463@www.uni-marburg.de
ATTENDEE;CN="Prof. Dr. Jürg Fleischer";ROLE=REQ-PARTICIPANT:Prof. Dr. Jü
 rg Fleischer
CREATED:20220404T134632Z
DESCRIPTION:https://www.uni-marburg.de/de/fb06/hessische-landesgeschichte/
 aktuelles/termine/die-grimms-und-die-germanistik-marburger-anfaenge\n
LAST-MODIFIED:20220419T142917Z
LOCATION:Landgrafensaal des Hessischen Staatsarchivs Marburg
URL:https://www.uni-marburg.de/de/fb06/hessische-landesgeschichte/aktuelle
 s/termine/die-grimms-und-die-germanistik-marburger-anfaenge
END:VEVENT
BEGIN:VTIMEZONE
TZID:Europe/Berlin
X-LIC-LOCATION:Europe/Berlin
BEGIN:DAYLIGHT
DTSTART:20220327T030000
TZNAME:CEST
TZOFFSETFROM:+0100
TZOFFSETTO:+0200
END:DAYLIGHT
END:VTIMEZONE
END:VCALENDAR
