BEGIN:VCALENDAR
VERSION:2.0
PRODID:-//Plone.org//NONSGML plone.app.event//EN
X-WR-TIMEZONE:Europe/Berlin
BEGIN:VEVENT
SUMMARY:Forschungsatelier: Geschlecht. Macht. Staat.
DTSTART;TZID=Europe/Berlin:20191114T181500
DTEND;TZID=Europe/Berlin:20191114T194500
DTSTAMP:20260425T013203Z
UID:8361df2d60ef43dc9ba674f4758c3740@www.uni-marburg.de
CREATED:20191023T063309Z
DESCRIPTION:https://www.uni-marburg.de/de/fb06/hessische-landesgeschichte/
 aktuelles/termine/forschungsatelier-geschlecht-macht-staat\nGeschlecht. Ma
 cht. Staat.\nNormative Rahmung und soziale Praxis von Geschlechterzuschrei
 bungen in der Politik seit 1500.
LAST-MODIFIED:20191024T113118Z
LOCATION:Herder-Institut\, Gisonenweg 5-7\, 35037 Marburg
URL:https://www.uni-marburg.de/de/fb06/hessische-landesgeschichte/aktuelle
 s/termine/forschungsatelier-geschlecht-macht-staat
END:VEVENT
BEGIN:VTIMEZONE
TZID:Europe/Berlin
X-LIC-LOCATION:Europe/Berlin
BEGIN:STANDARD
DTSTART:20191027T020000
TZNAME:CET
TZOFFSETFROM:+0200
TZOFFSETTO:+0100
END:STANDARD
END:VTIMEZONE
END:VCALENDAR
