BEGIN:VCALENDAR
VERSION:2.0
PRODID:-//Plone.org//NONSGML plone.app.event//EN
X-WR-TIMEZONE:Europe/Berlin
BEGIN:VEVENT
SUMMARY:Gewalt als Norm? Schlaglichter auf die Marburger Studierendengesch
 ichte des 20. Jahrhunderts
DTSTART;TZID=Europe/Berlin:20220504T183000
DTEND;TZID=Europe/Berlin:20220504T200000
DTSTAMP:20260425T033928Z
UID:46dd40eb9f864ae59e2029ebf375eef9@www.uni-marburg.de
ATTENDEE;CN="Dr. Martin Göllnitz";ROLE=REQ-PARTICIPANT:Dr. Martin Göllni
 tz
CREATED:20220404T134632Z
DESCRIPTION:https://www.uni-marburg.de/de/fb06/hessische-landesgeschichte/
 aktuelles/termine/gewalt-als-norm-schlaglichter-auf-die-marburger-studiere
 ndengeschichte-des-20-jahrhunderts\n
LAST-MODIFIED:20220404T134840Z
LOCATION:Landgrafensaal des Hessischen Staatsarchivs Marburg
URL:https://www.uni-marburg.de/de/fb06/hessische-landesgeschichte/aktuelle
 s/termine/gewalt-als-norm-schlaglichter-auf-die-marburger-studierendengesc
 hichte-des-20-jahrhunderts
END:VEVENT
BEGIN:VTIMEZONE
TZID:Europe/Berlin
X-LIC-LOCATION:Europe/Berlin
BEGIN:DAYLIGHT
DTSTART:20220327T030000
TZNAME:CEST
TZOFFSETFROM:+0100
TZOFFSETTO:+0200
END:DAYLIGHT
END:VTIMEZONE
END:VCALENDAR
