BEGIN:VCALENDAR
VERSION:2.0
PRODID:-//Plone.org//NONSGML plone.app.event//EN
X-WR-TIMEZONE:Europe/Berlin
BEGIN:VEVENT
SUMMARY:Isabelle Berens M.A.: "Modebäder der 1910er Jahre am Beispiel von
  Bad Nauheim\, Bad Homburg v.d.H. und Wiesbaden"
DTSTART;TZID=Europe/Berlin:20220510T180000
DTEND;TZID=Europe/Berlin:20220510T190000
DTSTAMP:20260426T034552Z
UID:d25fede9adff486796a4bd182d4a7ac1@www.uni-marburg.de
CREATED:20220504T173801Z
DESCRIPTION:https://www.uni-marburg.de/de/fb06/hessische-landesgeschichte/
 aktuelles/termine/isabelle-berens-m-a-modebaeder-der-1910er-jahre-am-beisp
 iel-von-bad-nauheim-bad-homburg-v-d-h-und-wiesbaden\nGastvortrag "Modebäd
 er der 1910er Jahre am Beispiel von Bad Nauheim\, Bad Homburg v.d.H. und W
 iesbaden"\nvon Isabelle Berens M.A.\, Hamburg
LAST-MODIFIED:20220505T104000Z
LOCATION:Wilhelm-Röpke-Straße 6C\, Raum 09C06
URL:https://www.uni-marburg.de/de/fb06/hessische-landesgeschichte/aktuelle
 s/termine/isabelle-berens-m-a-modebaeder-der-1910er-jahre-am-beispiel-von-
 bad-nauheim-bad-homburg-v-d-h-und-wiesbaden
END:VEVENT
BEGIN:VTIMEZONE
TZID:Europe/Berlin
X-LIC-LOCATION:Europe/Berlin
BEGIN:DAYLIGHT
DTSTART:20220327T030000
TZNAME:CEST
TZOFFSETFROM:+0100
TZOFFSETTO:+0200
END:DAYLIGHT
END:VTIMEZONE
END:VCALENDAR
