BEGIN:VCALENDAR
VERSION:2.0
PRODID:-//Plone.org//NONSGML plone.app.event//EN
X-WR-TIMEZONE:Europe/Berlin
BEGIN:VEVENT
SUMMARY:Lena Haase: "Das Verhältnis von Justiz und Polizei im Nationalsoz
 ialismus"
DTSTART;TZID=Europe/Berlin:20220531T180000
DTEND;TZID=Europe/Berlin:20220531T200000
DTSTAMP:20260426T012147Z
UID:a477bd30d5fd411da13e170628cd72e1@www.uni-marburg.de
CREATED:20220504T174201Z
DESCRIPTION:https://www.uni-marburg.de/de/fb06/hessische-landesgeschichte/
 aktuelles/termine/lena-haase-das-verhaeltnis-von-justiz-und-polizei-im-nat
 ionalsozialismus\nGastvortrag "Das Verhältnis von Justiz und Polizei im N
 ationalsozialismus"\nvon Lena Haase\, Trier
LAST-MODIFIED:20220505T104137Z
LOCATION:Wilhelm-Röpke-Straße 6C\, Raum 09C06
URL:https://www.uni-marburg.de/de/fb06/hessische-landesgeschichte/aktuelle
 s/termine/lena-haase-das-verhaeltnis-von-justiz-und-polizei-im-nationalsoz
 ialismus
END:VEVENT
BEGIN:VTIMEZONE
TZID:Europe/Berlin
X-LIC-LOCATION:Europe/Berlin
BEGIN:DAYLIGHT
DTSTART:20220327T030000
TZNAME:CEST
TZOFFSETFROM:+0100
TZOFFSETTO:+0200
END:DAYLIGHT
END:VTIMEZONE
END:VCALENDAR
