BEGIN:VCALENDAR
VERSION:2.0
PRODID:-//Plone.org//NONSGML plone.app.event//EN
X-WR-TIMEZONE:Europe/Berlin
BEGIN:VEVENT
SUMMARY:Minderheiten als außenpolitisches Problem der Zwischenkriegszeit 
 (1919-1939)
DTSTART;TZID=Europe/Berlin:20190823T091500
DTSTAMP:20260425T051003Z
UID:f865af06357c45d6bc186463660c5de8@www.uni-marburg.de
ATTENDEE;CN="Dr. Martin Göllnitz";ROLE=REQ-PARTICIPANT:Dr. Martin Göllni
 tz
CREATED:20190604T155349Z
DESCRIPTION:https://www.uni-marburg.de/de/fb06/hessische-landesgeschichte/
 aktuelles/termine/minderheiten-als-aussenpolitisches-problem-der-zwischenk
 riegszeit-1919-1939\nVortrag im Rahmen der internationalen Sommeruniversit
 ät "Minorities - Problem or Diversity?"
LAST-MODIFIED:20190604T162711Z
LOCATION:Internationale Sommerschule 2019\, Jaruplund Højskole
URL:https://www.uni-marburg.de/de/fb06/hessische-landesgeschichte/aktuelle
 s/termine/minderheiten-als-aussenpolitisches-problem-der-zwischenkriegszei
 t-1919-1939
END:VEVENT
BEGIN:VTIMEZONE
TZID:Europe/Berlin
X-LIC-LOCATION:Europe/Berlin
BEGIN:DAYLIGHT
DTSTART:20190331T030000
TZNAME:CEST
TZOFFSETFROM:+0100
TZOFFSETTO:+0200
END:DAYLIGHT
END:VTIMEZONE
END:VCALENDAR
