BEGIN:VCALENDAR
VERSION:2.0
PRODID:-//Plone.org//NONSGML plone.app.event//EN
X-WR-TIMEZONE:Europe/Berlin
BEGIN:VEVENT
SUMMARY:Pionierinnen an der Königlich Preußischen Universität Marburg 
 – die ersten (Gast-) Hörerinnen
DTSTART;TZID=Europe/Berlin:20220525T183000
DTEND;TZID=Europe/Berlin:20220525T200000
DTSTAMP:20260425T230954Z
UID:0939fc9a633e4d0b8c770cadc57f3ed8@www.uni-marburg.de
ATTENDEE;CN="Dr. Silke Lorch Göllner ";ROLE=REQ-PARTICIPANT:Dr. Silke Lor
 ch Göllner 
CREATED:20220404T134632Z
DESCRIPTION:https://www.uni-marburg.de/de/fb06/hessische-landesgeschichte/
 aktuelles/termine/pionierinnen-an-der-koeniglich-preussischen-universitaet
 -marburg-die-ersten-gast-hoererinnen\n
LAST-MODIFIED:20220421T071841Z
LOCATION:Landgrafensaal des Hessischen Staatsarchivs Marburg
URL:https://www.uni-marburg.de/de/fb06/hessische-landesgeschichte/aktuelle
 s/termine/pionierinnen-an-der-koeniglich-preussischen-universitaet-marburg
 -die-ersten-gast-hoererinnen
END:VEVENT
BEGIN:VTIMEZONE
TZID:Europe/Berlin
X-LIC-LOCATION:Europe/Berlin
BEGIN:DAYLIGHT
DTSTART:20220327T030000
TZNAME:CEST
TZOFFSETFROM:+0100
TZOFFSETTO:+0200
END:DAYLIGHT
END:VTIMEZONE
END:VCALENDAR
