BEGIN:VCALENDAR
VERSION:2.0
PRODID:-//Plone.org//NONSGML plone.app.event//EN
X-WR-TIMEZONE:Europe/Berlin
BEGIN:VEVENT
SUMMARY:Prof. Dr. Christopher Kopper: "Hessen vorn: Die Biografie des Hess
 ischen Ministerpräsidenten Georg August Zinn"
DTSTART;TZID=Europe/Berlin:20220517T180000
DTEND;TZID=Europe/Berlin:20220517T200000
DTSTAMP:20260426T013659Z
UID:b5583312002141dfa37a6047e0f77692@www.uni-marburg.de
CREATED:20220504T174100Z
DESCRIPTION:https://www.uni-marburg.de/de/fb06/hessische-landesgeschichte/
 aktuelles/termine/prof-dr-christopher-kopper-hessen-vorn-die-biografie-des
 -hessischen-ministerpraesidenten-georg-august-zinn\nGastvortrag "Hessen vo
 rn: Die Biografie des Hessischen Ministerpräsidenten Georg August Zinn"\n
 von Prof. Dr. Christopher Kopper\, Bielefeld
LAST-MODIFIED:20220505T104125Z
LOCATION:Wilhelm-Röpke-Straße 6C\, Raum 09C06
URL:https://www.uni-marburg.de/de/fb06/hessische-landesgeschichte/aktuelle
 s/termine/prof-dr-christopher-kopper-hessen-vorn-die-biografie-des-hessisc
 hen-ministerpraesidenten-georg-august-zinn
END:VEVENT
BEGIN:VTIMEZONE
TZID:Europe/Berlin
X-LIC-LOCATION:Europe/Berlin
BEGIN:DAYLIGHT
DTSTART:20220327T030000
TZNAME:CEST
TZOFFSETFROM:+0100
TZOFFSETTO:+0200
END:DAYLIGHT
END:VTIMEZONE
END:VCALENDAR
