BEGIN:VCALENDAR
VERSION:2.0
PRODID:-//Plone.org//NONSGML plone.app.event//EN
X-WR-TIMEZONE:Europe/Berlin
BEGIN:VEVENT
SUMMARY:The Far Right and Institutions: Disrupting the Democratic Fabric o
 n the Local Level (Julia Leser)
DTSTART;TZID=Europe/Berlin:20250210T170000
DTEND;TZID=Europe/Berlin:20250210T174500
DTSTAMP:20260425T120258Z
UID:79f3b6d6f23741909831a874d51da7b8@www.uni-marburg.de
ATTENDEE;CN="Dr. Julia Leser";ROLE=REQ-PARTICIPANT:Dr. Julia Leser
CREATED:20250210T165622Z
DESCRIPTION:https://www.uni-marburg.de/de/fb06/hessische-landesgeschichte/
 aktuelles/termine/the-far-right-and-institutions-disrupting-the-democratic
 -fabric-on-the-local-level-julia-leser\nA decade after its founding in 201
 3\, the Alternative for Germany (AfD) is now present in all state parliame
 nts and\nmany local councils\, gaining voter support despite continued par
 liamentary marginalisation (Heinze 2022). This\npaper examines how the far
  right affects local democracy in Germany through (1) an ethnographic case
  study of\nAfD campaign events\, and (2) an interview study with professio
 nals working in cultural institutions. While much\nresearch on far-right p
 opulism focuses on demand or supply-side factors\, my research considers p
 opulism as a\nlocally enacted political practice. The paper highlights dis
 ruptive strategies such as parliamentary motions\, hate\nspeech and person
 al threats that aim to intimidate and distract people working in instituti
 ons. These tactics\nundermine democratic institutions and often lead to se
 lf-censorship and disengagement. Furthermore\, an\nethnographic perspectiv
 e shows how the AfD organises these disruptive strategies and engages 'ord
 inary citizens'\nin shaping local institutions. By analysing these practic
 es\, the paper demonstrates how far-right populism\noperates at the local 
 level\, shaping institutional behaviour and threatening democratic discour
 se.
LAST-MODIFIED:20250210T171158Z
LOCATION:Ketzerbach 63\, Raum +2/0140\, 35037 Marburg
URL:https://www.uni-marburg.de/de/fb06/hessische-landesgeschichte/aktuelle
 s/termine/the-far-right-and-institutions-disrupting-the-democratic-fabric-
 on-the-local-level-julia-leser
END:VEVENT
BEGIN:VTIMEZONE
TZID:Europe/Berlin
X-LIC-LOCATION:Europe/Berlin
BEGIN:STANDARD
DTSTART:20241027T020000
TZNAME:CET
TZOFFSETFROM:+0200
TZOFFSETTO:+0100
END:STANDARD
END:VTIMEZONE
END:VCALENDAR
