BEGIN:VCALENDAR
VERSION:2.0
PRODID:-//Plone.org//NONSGML plone.app.event//EN
X-WR-TIMEZONE:Europe/Berlin
BEGIN:VEVENT
SUMMARY:Vortrag von Dr. Martin Göllnitz: An der Schnittstelle von Wissens
 chaft und Öffentlichkeit
DTSTART;TZID=Europe/Berlin:20190926T170000
DTEND;TZID=Europe/Berlin:20190926T180000
DTSTAMP:20260425T005254Z
UID:e4fdb0db80324349b5796e96a461c07e@www.uni-marburg.de
CREATED:20190910T170413Z
DESCRIPTION:https://www.uni-marburg.de/de/fb06/hessische-landesgeschichte/
 aktuelles/termine/vortrag-von-dr-martin-goellnitz-an-der-schnittstelle-von
 -wissenschaft-und-oeffentlichkeit\nTagung "Landesgeschichte und Public His
 tory"\, 25. bis 27. September 2019
LAST-MODIFIED:20190910T171855Z
LOCATION:Georg-August-Universität Göttingen\, Tagungszentrum an der Ster
 nwarte\, Geismar Landstraße 11b\, 37083 Göttingen
URL:https://www.uni-marburg.de/de/fb06/hessische-landesgeschichte/aktuelle
 s/termine/vortrag-von-dr-martin-goellnitz-an-der-schnittstelle-von-wissens
 chaft-und-oeffentlichkeit
END:VEVENT
BEGIN:VTIMEZONE
TZID:Europe/Berlin
X-LIC-LOCATION:Europe/Berlin
BEGIN:DAYLIGHT
DTSTART:20190331T030000
TZNAME:CEST
TZOFFSETFROM:+0100
TZOFFSETTO:+0200
END:DAYLIGHT
END:VTIMEZONE
END:VCALENDAR
