BEGIN:VCALENDAR
VERSION:2.0
PRODID:-//Plone.org//NONSGML plone.app.event//EN
X-WR-TIMEZONE:Europe/Berlin
BEGIN:VEVENT
SUMMARY:Vor 50 Jahren: Erste Genetische Beratungsstelle Deutschlands in Ma
 rburg
DTSTART;TZID=Europe/Berlin:20220928T143000
DTSTAMP:20260425T214638Z
UID:85cf9ac2fa3645608e1d2e51f5be2a09@www.uni-marburg.de
ATTENDEE;CN="siehe Programm";ROLE=REQ-PARTICIPANT:siehe Programm
CREATED:20220915T080214Z
DESCRIPTION:https://www.uni-marburg.de/de/fb06/neueste-geschichte/aktuelle
 s/termine/vor-50-jahren-erste-genetische-beratungsstelle-deutschlands-in-m
 arburg\n
LAST-MODIFIED:20220915T080259Z
LOCATION:Landgrafensaal im Hessischen Staatsarchiv Marburg
URL:https://www.uni-marburg.de/de/fb06/neueste-geschichte/aktuelles/termin
 e/vor-50-jahren-erste-genetische-beratungsstelle-deutschlands-in-marburg
END:VEVENT
BEGIN:VTIMEZONE
TZID:Europe/Berlin
X-LIC-LOCATION:Europe/Berlin
BEGIN:DAYLIGHT
DTSTART:20220327T030000
TZNAME:CEST
TZOFFSETFROM:+0100
TZOFFSETTO:+0200
END:DAYLIGHT
END:VTIMEZONE
END:VCALENDAR
