BEGIN:VCALENDAR
VERSION:2.0
PRODID:-//Plone.org//NONSGML plone.app.event//EN
X-WR-TIMEZONE:Europe/Berlin
BEGIN:VEVENT
SUMMARY:Vortrag  „Stehen wir am Ende der ‚Ordnung‘ des langen 20. Ja
 hrhunderts? – Versuch einer globalen Neu-Einordung“
DTSTART;TZID=Europe/Berlin:20250602T160000
DTEND;TZID=Europe/Berlin:20250602T180000
DTSTAMP:20260426T015240Z
UID:dd106311f1074fd181c0bee5687907e0@www.uni-marburg.de
ATTENDEE;CN="Prof. Patrick O. Cohrs";ROLE=REQ-PARTICIPANT:Prof. Patrick O.
  Cohrs
CREATED:20250528T055053Z
DESCRIPTION:https://www.uni-marburg.de/de/fb06/neueste-geschichte/aktuelle
 s/termine/vortrag-prof-patrick-o-cohrs-stehen-wir-am-ende-der-ordnung-des-
 langen-20-jahrhunderts-versuch-einer-globalen-neu-einordung\n
LAST-MODIFIED:20250528T070954Z
LOCATION:Phil-Fak.\, Wilhelm-Röpke-Str. 6\, Turm C\, Raum 09C06
URL:https://www.uni-marburg.de/de/fb06/neueste-geschichte/aktuelles/termin
 e/vortrag-prof-patrick-o-cohrs-stehen-wir-am-ende-der-ordnung-des-langen-2
 0-jahrhunderts-versuch-einer-globalen-neu-einordung
END:VEVENT
BEGIN:VTIMEZONE
TZID:Europe/Berlin
X-LIC-LOCATION:Europe/Berlin
BEGIN:DAYLIGHT
DTSTART:20250330T030000
TZNAME:CEST
TZOFFSETFROM:+0100
TZOFFSETTO:+0200
END:DAYLIGHT
END:VTIMEZONE
END:VCALENDAR
