BEGIN:VCALENDAR
VERSION:2.0
PRODID:-//Plone.org//NONSGML plone.app.event//EN
X-WR-TIMEZONE:Europe/Berlin
BEGIN:VEVENT
SUMMARY:Vortrag "Die zeithistorische Entwicklung von Spielbanken und Spiel
 hallen in der bundesdeutschen Freizeitökonomie"
DTSTART;TZID=Europe/Berlin:20260512T180000
DTEND;TZID=Europe/Berlin:20260512T200000
DTSTAMP:20260421T162716Z
UID:99e5dc3ab5cd43e1ae45493e7e64cd8a@www.uni-marburg.de
ATTENDEE;CN="Sophia Gröschel (Bremen)";ROLE=REQ-PARTICIPANT:Sophia Grösc
 hel (Bremen)
CATEGORIES:()
CREATED:20260421T090056Z
DESCRIPTION:https://www.uni-marburg.de/de/fb06/wsg/aktuelles/termine/entwi
 cklung-von-spielbanken-und-spielhallen\n
LAST-MODIFIED:20260421T090216Z
LOCATION:Phil-Fak\, WR 6c\, 09 C 06
URL:https://www.uni-marburg.de/de/fb06/wsg/aktuelles/termine/entwicklung-v
 on-spielbanken-und-spielhallen
END:VEVENT
BEGIN:VTIMEZONE
TZID:Europe/Berlin
X-LIC-LOCATION:Europe/Berlin
BEGIN:DAYLIGHT
DTSTART:20260329T030000
TZNAME:CEST
TZOFFSETFROM:+0100
TZOFFSETTO:+0200
END:DAYLIGHT
END:VTIMEZONE
END:VCALENDAR
