BEGIN:VCALENDAR
VERSION:2.0
PRODID:-//Plone.org//NONSGML plone.app.event//EN
X-WR-TIMEZONE:Europe/Berlin
BEGIN:VEVENT
SUMMARY:Vortrag "Jugendwettbewerbe\, Sichtbarkeit und soziale Mobilität i
 m 20. Jahrhundert"
DTSTART;TZID=Europe/Berlin:20260707T180000
DTEND;TZID=Europe/Berlin:20260707T200000
DTSTAMP:20260425T203734Z
UID:0682a50689cc4e76a0da6e7b36aac60e@www.uni-marburg.de
ATTENDEE;CN="Prof. Dr. Reinhild Kreis (Siegen)";ROLE=REQ-PARTICIPANT:Prof.
  Dr. Reinhild Kreis (Siegen)
CATEGORIES:()
CREATED:20260421T090430Z
DESCRIPTION:https://www.uni-marburg.de/de/fb06/wsg/aktuelles/termine/jugen
 dwettbewerbe-sichtbarkeit-und-soziale-mobilitaet-im-20-jahrhundert\n
LAST-MODIFIED:20260421T090527Z
LOCATION:Phil-Fak\, WR 6c\, 09 C 06
URL:https://www.uni-marburg.de/de/fb06/wsg/aktuelles/termine/jugendwettbew
 erbe-sichtbarkeit-und-soziale-mobilitaet-im-20-jahrhundert
END:VEVENT
BEGIN:VTIMEZONE
TZID:Europe/Berlin
X-LIC-LOCATION:Europe/Berlin
BEGIN:DAYLIGHT
DTSTART:20260329T030000
TZNAME:CEST
TZOFFSETFROM:+0100
TZOFFSETTO:+0200
END:DAYLIGHT
END:VTIMEZONE
END:VCALENDAR
