BEGIN:VCALENDAR
VERSION:2.0
PRODID:-//Plone.org//NONSGML plone.app.event//EN
X-WR-TIMEZONE:Europe/Berlin
BEGIN:VEVENT
SUMMARY:Linguistisches Kolloquium | Vortrag von Dieter Nerius
DTSTART;TZID=Europe/Berlin:20260422T121500
DTEND;TZID=Europe/Berlin:20260422T134500
DTSTAMP:20260422T212410Z
UID:0bb61e5f420047f3b7a7c50d713af5f8@www.uni-marburg.de
ATTENDEE;CN="Prof. em. Dr. Dieter Nerius (Rostock)";ROLE=REQ-PARTICIPANT:P
 rof. em. Dr. Dieter Nerius (Rostock)
CATEGORIES:()
CREATED:20260416T130918Z
DESCRIPTION:https://www.uni-marburg.de/de/fb09/dsa/aktuelles/events/lingui
 stisches-kolloquium-sose-2026/dieter-nerius\nRegionalsprachlicher Wortscha
 tz in deutschen Orthografiewörterbüchern
LAST-MODIFIED:20260416T132135Z
LOCATION:Vortragsraum 001 | Forschungszentrum Deutscher Sprachatlas
URL:https://www.uni-marburg.de/de/fb09/dsa/aktuelles/events/linguistisches
 -kolloquium-sose-2026/dieter-nerius
END:VEVENT
BEGIN:VTIMEZONE
TZID:Europe/Berlin
X-LIC-LOCATION:Europe/Berlin
BEGIN:DAYLIGHT
DTSTART:20260329T030000
TZNAME:CEST
TZOFFSETFROM:+0100
TZOFFSETTO:+0200
END:DAYLIGHT
END:VTIMEZONE
END:VCALENDAR
