BEGIN:VCALENDAR
VERSION:2.0
PRODID:-//Plone.org//NONSGML plone.app.event//EN
X-WR-TIMEZONE:Europe/Berlin
BEGIN:VEVENT
SUMMARY:Linguistisches Kolloquium | Vortrag von Elisabeth Delais-Roussarie
DTSTART;TZID=Europe/Berlin:20260415T121500
DTEND;TZID=Europe/Berlin:20260415T134500
DTSTAMP:20260421T231734Z
UID:762d33dbc6664782891657768e62494c@www.uni-marburg.de
ATTENDEE;CN="Elisabeth Delais-Roussarie (Nantes)";ROLE=REQ-PARTICIPANT:Eli
 sabeth Delais-Roussarie (Nantes)
CATEGORIES:()
CREATED:20260416T124049Z
DESCRIPTION:https://www.uni-marburg.de/de/fb09/dsa/aktuelles/events/lingui
 stisches-kolloquium-sose-2026/elisabeth-delais-roussarie\nThe prosody of F
 rench pronouns: between status and usage
LAST-MODIFIED:20260416T132208Z
LOCATION:Vortragsraum 001 | Forschungszentrum Deutscher Sprachatlas
URL:https://www.uni-marburg.de/de/fb09/dsa/aktuelles/events/linguistisches
 -kolloquium-sose-2026/elisabeth-delais-roussarie
END:VEVENT
BEGIN:VTIMEZONE
TZID:Europe/Berlin
X-LIC-LOCATION:Europe/Berlin
BEGIN:DAYLIGHT
DTSTART:20260329T030000
TZNAME:CEST
TZOFFSETFROM:+0100
TZOFFSETTO:+0200
END:DAYLIGHT
END:VTIMEZONE
END:VCALENDAR
