BEGIN:VCALENDAR
VERSION:2.0
PRODID:-//Plone.org//NONSGML plone.app.event//EN
X-WR-TIMEZONE:Europe/Berlin
BEGIN:VEVENT
SUMMARY:Linguistisches Kolloquium | Vortrag von Jeffrey Pheiff
DTSTART;TZID=Europe/Berlin:20260506T121500
DTEND;TZID=Europe/Berlin:20260506T134500
DTSTAMP:20260421T102335Z
UID:b3e6416bdf014c95a510c1e15cd78270@www.uni-marburg.de
ATTENDEE;CN="Jeffrey Pheiff (Dortmund)";ROLE=REQ-PARTICIPANT:Jeffrey Pheif
 f (Dortmund)
CATEGORIES:()
CREATED:20260416T130918Z
DESCRIPTION:https://www.uni-marburg.de/de/fb09/dsa/aktuelles/events/lingui
 stisches-kolloquium-sose-2026/jeffrey-pheiff\n
LAST-MODIFIED:20260416T132103Z
LOCATION:Vortragsraum 001 | Forschungszentrum Deutscher Sprachatlas
URL:https://www.uni-marburg.de/de/fb09/dsa/aktuelles/events/linguistisches
 -kolloquium-sose-2026/jeffrey-pheiff
END:VEVENT
BEGIN:VTIMEZONE
TZID:Europe/Berlin
X-LIC-LOCATION:Europe/Berlin
BEGIN:DAYLIGHT
DTSTART:20260329T030000
TZNAME:CEST
TZOFFSETFROM:+0100
TZOFFSETTO:+0200
END:DAYLIGHT
END:VTIMEZONE
END:VCALENDAR
