BEGIN:VCALENDAR
VERSION:2.0
PRODID:-//Plone.org//NONSGML plone.app.event//EN
X-WR-TIMEZONE:Europe/Berlin
BEGIN:VEVENT
SUMMARY:Linguistisches Kolloquium | Vortrag von Jonas Gerards und Vortrag 
 von Leah Nieber
DTSTART;TZID=Europe/Berlin:20260527T121500
DTEND;TZID=Europe/Berlin:20260527T134500
DTSTAMP:20260421T220240Z
UID:01776a902e7145d28e45807d53552175@www.uni-marburg.de
ATTENDEE;CN="Jonas Gerards (GRK 2700, Philipps-Universität Marburg)";ROLE
 =REQ-PARTICIPANT:Jonas Gerards (GRK 2700, Philipps-Universität Marburg)
ATTENDEE;CN="Leah Nieber (GRK 2700, Philipps-Universität Marburg)";ROLE=R
 EQ-PARTICIPANT:Leah Nieber (GRK 2700, Philipps-Universität Marburg)
CATEGORIES:()
CREATED:20260416T130918Z
DESCRIPTION:https://www.uni-marburg.de/de/fb09/dsa/aktuelles/events/lingui
 stisches-kolloquium-sose-2026/jonas-gerards-leah-nieber\n
LAST-MODIFIED:20260416T133453Z
LOCATION:Vortragsraum 001 | Forschungszentrum Deutscher Sprachatlas
URL:https://www.uni-marburg.de/de/fb09/dsa/aktuelles/events/linguistisches
 -kolloquium-sose-2026/jonas-gerards-leah-nieber
END:VEVENT
BEGIN:VTIMEZONE
TZID:Europe/Berlin
X-LIC-LOCATION:Europe/Berlin
BEGIN:DAYLIGHT
DTSTART:20260329T030000
TZNAME:CEST
TZOFFSETFROM:+0100
TZOFFSETTO:+0200
END:DAYLIGHT
END:VTIMEZONE
END:VCALENDAR
