BEGIN:VCALENDAR
VERSION:2.0
PRODID:-//Plone.org//NONSGML plone.app.event//EN
X-WR-TIMEZONE:Europe/Berlin
BEGIN:VEVENT
SUMMARY:Linguistisches Kolloquium | Vortrag von Kathrin Siebold
DTSTART;TZID=Europe/Berlin:20260603T121500
DTEND;TZID=Europe/Berlin:20260603T134500
DTSTAMP:20260421T051451Z
UID:ad6e47550e10411583da30253841d000@www.uni-marburg.de
ATTENDEE;CN="Kathrin Siebold (Marburg)";ROLE=REQ-PARTICIPANT:Kathrin Siebo
 ld (Marburg)
CATEGORIES:()
CREATED:20260416T130918Z
DESCRIPTION:https://www.uni-marburg.de/de/fb09/dsa/aktuelles/events/lingui
 stisches-kolloquium-sose-2026/kathrin-siebold\n
LAST-MODIFIED:20260416T133419Z
LOCATION:Vortragsraum 001 | Forschungszentrum Deutscher Sprachatlas
URL:https://www.uni-marburg.de/de/fb09/dsa/aktuelles/events/linguistisches
 -kolloquium-sose-2026/kathrin-siebold
END:VEVENT
BEGIN:VTIMEZONE
TZID:Europe/Berlin
X-LIC-LOCATION:Europe/Berlin
BEGIN:DAYLIGHT
DTSTART:20260329T030000
TZNAME:CEST
TZOFFSETFROM:+0100
TZOFFSETTO:+0200
END:DAYLIGHT
END:VTIMEZONE
END:VCALENDAR
