BEGIN:VCALENDAR
VERSION:2.0
PRODID:-//Plone.org//NONSGML plone.app.event//EN
X-WR-TIMEZONE:Europe/Berlin
BEGIN:VEVENT
SUMMARY:Linguistisches Kolloquium | Vortrag von Patrick Wolf-Farré
DTSTART;TZID=Europe/Berlin:20260708T121500
DTEND;TZID=Europe/Berlin:20260708T134500
DTSTAMP:20260421T102331Z
UID:3a45e25606924467b74fdf9c4a7eae97@www.uni-marburg.de
ATTENDEE;CN="Patrick Wolf-Farré (Wien)";ROLE=REQ-PARTICIPANT:Patrick Wolf
 -Farré (Wien)
CATEGORIES:()
CREATED:20260416T130918Z
DESCRIPTION:https://www.uni-marburg.de/de/fb09/dsa/aktuelles/events/lingui
 stisches-kolloquium-sose-2026/patrick-wolf-farre\n
LAST-MODIFIED:20260416T133653Z
LOCATION:Vortragsraum 001 | Forschungszentrum Deutscher Sprachatlas
URL:https://www.uni-marburg.de/de/fb09/dsa/aktuelles/events/linguistisches
 -kolloquium-sose-2026/patrick-wolf-farre
END:VEVENT
BEGIN:VTIMEZONE
TZID:Europe/Berlin
X-LIC-LOCATION:Europe/Berlin
BEGIN:DAYLIGHT
DTSTART:20260329T030000
TZNAME:CEST
TZOFFSETFROM:+0100
TZOFFSETTO:+0200
END:DAYLIGHT
END:VTIMEZONE
END:VCALENDAR
