BEGIN:VCALENDAR
VERSION:2.0
PRODID:-//Plone.org//NONSGML plone.app.event//EN
X-WR-TIMEZONE:Europe/Berlin
BEGIN:VEVENT
SUMMARY:Linguistisches Kolloquium | Vortrag von Sven Brauer und Vortrag vo
 n Julia Sigg
DTSTART;TZID=Europe/Berlin:20260513T121500
DTEND;TZID=Europe/Berlin:20260513T134500
DTSTAMP:20260421T235342Z
UID:47a3681eeec2410795083cee6685c3d2@www.uni-marburg.de
ATTENDEE;CN="Sven Brauer (GRK 2700, Philipps-Universität Marburg)";ROLE=R
 EQ-PARTICIPANT:Sven Brauer (GRK 2700, Philipps-Universität Marburg)
ATTENDEE;CN="Julia Sigg (GRK 2700, Philipps-Universität Marburg)";ROLE=RE
 Q-PARTICIPANT:Julia Sigg (GRK 2700, Philipps-Universität Marburg)
CATEGORIES:()
CREATED:20260416T130918Z
DESCRIPTION:https://www.uni-marburg.de/de/fb09/dsa/aktuelles/events/lingui
 stisches-kolloquium-sose-2026/sven-brauer-julia-sigg\n
LAST-MODIFIED:20260416T132954Z
LOCATION:Vortragsraum 001 | Forschungszentrum Deutscher Sprachatlas
URL:https://www.uni-marburg.de/de/fb09/dsa/aktuelles/events/linguistisches
 -kolloquium-sose-2026/sven-brauer-julia-sigg
END:VEVENT
BEGIN:VTIMEZONE
TZID:Europe/Berlin
X-LIC-LOCATION:Europe/Berlin
BEGIN:DAYLIGHT
DTSTART:20260329T030000
TZNAME:CEST
TZOFFSETFROM:+0100
TZOFFSETTO:+0200
END:DAYLIGHT
END:VTIMEZONE
END:VCALENDAR
