BEGIN:VCALENDAR
VERSION:2.0
PRODID:-//Plone.org//NONSGML plone.app.event//EN
X-WR-TIMEZONE:Europe/Berlin
BEGIN:VEVENT
SUMMARY:MundART mit Biss
DTSTART;TZID=Europe/Berlin:20250501T110000
DTEND;TZID=Europe/Berlin:20250501T180000
DTSTAMP:20260422T025023Z
UID:6ddf4c36feed43a791d0227a9a75d04c@www.uni-marburg.de
CREATED:20250401T133314Z
DESCRIPTION:https://www.uni-marburg.de/de/fb09/dsa/aktuelles/events/termin
 e-2025/mundart-mit-biss\nDas Festival für Dialekte & lecker Essen!
LAST-MODIFIED:20250401T134029Z
LOCATION:Ortsmitte in Eibelshausen
URL:https://www.uni-marburg.de/de/fb09/dsa/aktuelles/events/termine-2025/m
 undart-mit-biss
END:VEVENT
BEGIN:VTIMEZONE
TZID:Europe/Berlin
X-LIC-LOCATION:Europe/Berlin
BEGIN:DAYLIGHT
DTSTART:20250330T030000
TZNAME:CEST
TZOFFSETFROM:+0100
TZOFFSETTO:+0200
END:DAYLIGHT
END:VTIMEZONE
END:VCALENDAR
