BEGIN:VCALENDAR
VERSION:2.0
PRODID:-//Plone.org//NONSGML plone.app.event//EN
X-WR-TIMEZONE:Europe/Berlin
BEGIN:VEVENT
SUMMARY:XIth Congress of the International Society of Dialectology and Geo
 linguistics (SIDG) – Geolinguistics across Borders
DTSTART;VALUE=DATE:20260907
DTEND;VALUE=DATE:20260912
DTSTAMP:20260425T215559Z
UID:bac58b9c4757433bbeb0a3fa1e815a99@www.uni-marburg.de
CREATED:20250920T123550Z
DESCRIPTION:https://www.uni-marburg.de/de/fb09/dsa/aktuelles/events/termin
 e-2026/xith-congress-of-the-international-society-of-dialectology-and-geol
 inguistics-sidg-geolinguistics-across-borders\n
LAST-MODIFIED:20250920T123617Z
LOCATION:Forschungszentrum Deutscher Sprachatlas
URL:https://www.uni-marburg.de/de/fb09/dsa/aktuelles/events/termine-2026/x
 ith-congress-of-the-international-society-of-dialectology-and-geolinguisti
 cs-sidg-geolinguistics-across-borders
END:VEVENT
END:VCALENDAR
