BEGIN:VCALENDAR
VERSION:2.0
PRODID:-//Plone.org//NONSGML plone.app.event//EN
X-WR-TIMEZONE:Europe/Berlin
BEGIN:VEVENT
SUMMARY:Interdisziplinäres Kolloquium Andalusien (hybrid)
DTSTART;TZID=Europe/Berlin:20220624T091500
DTEND;TZID=Europe/Berlin:20220624T160000
DTSTAMP:20260424T173639Z
UID:b4c126fc52354d599acae5faa2d094ef@www.uni-marburg.de
CREATED:20220516T151430Z
DESCRIPTION:https://www.uni-marburg.de/de/fb09/igs/arbeitsgruppen/dafz/akt
 uelles/termine/interdisziplinaeres-kolloquium-andalusien\n
LAST-MODIFIED:20240328T131549Z
LOCATION:Philipps-Universität Marburg\, Kleiner Hörsaal (00/0040)\, Deut
 schhausstr. 10
URL:https://www.uni-marburg.de/de/fb09/igs/arbeitsgruppen/dafz/aktuelles/t
 ermine/interdisziplinaeres-kolloquium-andalusien
END:VEVENT
BEGIN:VTIMEZONE
TZID:Europe/Berlin
X-LIC-LOCATION:Europe/Berlin
BEGIN:DAYLIGHT
DTSTART:20220327T030000
TZNAME:CEST
TZOFFSETFROM:+0100
TZOFFSETTO:+0200
END:DAYLIGHT
END:VTIMEZONE
END:VCALENDAR
