BEGIN:VCALENDAR
VERSION:2.0
PRODID:-//Plone.org//NONSGML plone.app.event//EN
X-WR-TIMEZONE:Europe/Berlin
BEGIN:VEVENT
SUMMARY:XII. Internationale Nachwuchskonferenz "Junge Forschung im Bereich
  Deutsch als Fremdsprache" 5.-6. Juni 2025
DTSTART;VALUE=DATE:20250605
DTEND;VALUE=DATE:20250607
DTSTAMP:20260426T032946Z
UID:47566cac1e7340f99ce31c040e41531f@www.uni-marburg.de
CREATED:20250311T120651Z
DESCRIPTION:https://www.uni-marburg.de/de/fb09/igs/arbeitsgruppen/dafz/akt
 uelles/termine/xii-internationale-nachwuchskonferenz-junge-forschung-im-be
 reich-deutsch-als-fremdsprache-5-6-juni-2025\n
LAST-MODIFIED:20250603T105724Z
LOCATION:Philipps-Universität Marburg
URL:https://www.uni-marburg.de/de/fb09/igs/arbeitsgruppen/dafz/aktuelles/t
 ermine/xii-internationale-nachwuchskonferenz-junge-forschung-im-bereich-de
 utsch-als-fremdsprache-5-6-juni-2025
END:VEVENT
END:VCALENDAR
