BEGIN:VCALENDAR
VERSION:2.0
PRODID:-//Plone.org//NONSGML plone.app.event//EN
X-WR-TIMEZONE:Europe/Berlin
BEGIN:VEVENT
SUMMARY:XIII. Internationale Nachwuchskonferenz “Junge Forschung im Bere
 ich Deutsch als Fremdsprache”
DTSTART;VALUE=DATE:20260618
DTEND;VALUE=DATE:20260619
DTSTAMP:20260426T033957Z
UID:b360be93fbe04ade8abcdcd1ee60a6ee@www.uni-marburg.de
CATEGORIES:()
CREATED:20251210T094957Z
DESCRIPTION:https://www.uni-marburg.de/de/fb09/igs/arbeitsgruppen/dafz/akt
 uelles/termine/xiii-internationale-nachwuchskonferenz-junge-forschung-im-b
 ereich-deutsch-als-fremdsprache\n
LAST-MODIFIED:20260120T095423Z
LOCATION:Nijmegen\, Niederlande
URL:https://www.uni-marburg.de/de/fb09/igs/arbeitsgruppen/dafz/aktuelles/t
 ermine/xiii-internationale-nachwuchskonferenz-junge-forschung-im-bereich-d
 eutsch-als-fremdsprache
END:VEVENT
END:VCALENDAR
