BEGIN:VCALENDAR
VERSION:2.0
PRODID:-//Plone.org//NONSGML plone.app.event//EN
X-WR-TIMEZONE:Europe/Berlin
BEGIN:VEVENT
SUMMARY:Abschiedsvorlesung Prof. Dr. Katharina Krause | "Von Nimrod bis Tr
 ump. Große Baustellen und die Macht der Bauherrschaft im Bild"
DTSTART;TZID=Europe/Berlin:20260527T181500
DTEND;TZID=Europe/Berlin:20260527T194500
DTSTAMP:20260424T014710Z
UID:cc109f5293774577b5c24088eadd37ee@www.uni-marburg.de
ATTENDEE;CN="Prof. Dr. Katharina Krause";ROLE=REQ-PARTICIPANT:Prof. Dr. Ka
 tharina Krause
CATEGORIES:()
CREATED:20260423T104645Z
DESCRIPTION:https://www.uni-marburg.de/de/fb09/khi/aktuelles/termine/absch
 iedsvorlesung-prof-dr-katharina-krause\n
LAST-MODIFIED:20260423T105052Z
LOCATION:Vortragssaal\, Deutsches Dokumentationszentrum für Kunstgeschich
 te\, Pilgrimstein 14
URL:https://www.uni-marburg.de/de/fb09/khi/aktuelles/termine/abschiedsvorl
 esung-prof-dr-katharina-krause
END:VEVENT
BEGIN:VTIMEZONE
TZID:Europe/Berlin
X-LIC-LOCATION:Europe/Berlin
BEGIN:DAYLIGHT
DTSTART:20260329T030000
TZNAME:CEST
TZOFFSETFROM:+0100
TZOFFSETTO:+0200
END:DAYLIGHT
END:VTIMEZONE
END:VCALENDAR
